BEGIN:VCALENDAR
VERSION:2.0
PRODID:-//MERIDIAN-KESSLER NEIGHBORHOOD ASSOCIATION - ECPv6.15.20//NONSGML v1.0//EN
CALSCALE:GREGORIAN
METHOD:PUBLISH
X-WR-CALNAME:MERIDIAN-KESSLER NEIGHBORHOOD ASSOCIATION
X-ORIGINAL-URL:https://mkna.org
X-WR-CALDESC:Events for MERIDIAN-KESSLER NEIGHBORHOOD ASSOCIATION
REFRESH-INTERVAL;VALUE=DURATION:PT1H
X-Robots-Tag:noindex
X-PUBLISHED-TTL:PT1H
BEGIN:VTIMEZONE
TZID:America/Indiana/Indianapolis
BEGIN:DAYLIGHT
TZOFFSETFROM:-0500
TZOFFSETTO:-0400
TZNAME:EDT
DTSTART:20230312T070000
END:DAYLIGHT
BEGIN:STANDARD
TZOFFSETFROM:-0400
TZOFFSETTO:-0500
TZNAME:EST
DTSTART:20231105T060000
END:STANDARD
BEGIN:DAYLIGHT
TZOFFSETFROM:-0500
TZOFFSETTO:-0400
TZNAME:EDT
DTSTART:20240310T070000
END:DAYLIGHT
BEGIN:STANDARD
TZOFFSETFROM:-0400
TZOFFSETTO:-0500
TZNAME:EST
DTSTART:20241103T060000
END:STANDARD
BEGIN:DAYLIGHT
TZOFFSETFROM:-0500
TZOFFSETTO:-0400
TZNAME:EDT
DTSTART:20250309T070000
END:DAYLIGHT
BEGIN:STANDARD
TZOFFSETFROM:-0400
TZOFFSETTO:-0500
TZNAME:EST
DTSTART:20251102T060000
END:STANDARD
BEGIN:DAYLIGHT
TZOFFSETFROM:-0500
TZOFFSETTO:-0400
TZNAME:EDT
DTSTART:20260308T070000
END:DAYLIGHT
BEGIN:STANDARD
TZOFFSETFROM:-0400
TZOFFSETTO:-0500
TZNAME:EST
DTSTART:20261101T060000
END:STANDARD
BEGIN:DAYLIGHT
TZOFFSETFROM:-0500
TZOFFSETTO:-0400
TZNAME:EDT
DTSTART:20270314T070000
END:DAYLIGHT
BEGIN:STANDARD
TZOFFSETFROM:-0400
TZOFFSETTO:-0500
TZNAME:EST
DTSTART:20271107T060000
END:STANDARD
END:VTIMEZONE
BEGIN:VTIMEZONE
TZID:UTC
BEGIN:STANDARD
TZOFFSETFROM:+0000
TZOFFSETTO:+0000
TZNAME:UTC
DTSTART:20190101T000000
END:STANDARD
END:VTIMEZONE
BEGIN:VEVENT
DTSTART;TZID=America/Indiana/Indianapolis:20260312T183000
DTEND;TZID=America/Indiana/Indianapolis:20260312T190000
DTSTAMP:20260422T044517
CREATED:20260226T223357Z
LAST-MODIFIED:20260226T224924Z
UID:10000241-1773340200-1773342000@mkna.org
SUMMARY:Board of Directors Meeting
DESCRIPTION:[vc_row][vc_column][vc_column_text css=”.vc_custom_1772145197422{margin-bottom: 0px !important;}”]Northwood Christian Church  \nBoard of Directors Meeting  \nThursday\, 6:30-8 pm [/vc_column_text][/vc_column][/vc_row]
URL:https://mkna.org/event/march-12-board-of-directors-meeting/
LOCATION:Northwood Christian Church\, 4550 Central Ave\, Indianapolis\, IN\, 46205\, United States
CATEGORIES:Board Meetings
ATTACH;FMTTYPE=image/jpeg:https://mkna.org/wp-content/uploads/2020/01/event-board-meeting-1.jpg
END:VEVENT
BEGIN:VEVENT
DTSTART;TZID=America/Indiana/Indianapolis:20251204T183000
DTEND;TZID=America/Indiana/Indianapolis:20251204T200000
DTSTAMP:20260422T044517
CREATED:20251015T190641Z
LAST-MODIFIED:20251016T163033Z
UID:10000239-1764873000-1764878400@mkna.org
SUMMARY:Board of Director Meeting
DESCRIPTION:Location TBD
URL:https://mkna.org/event/board-of-director-meeting/
LOCATION:IN
CATEGORIES:Board Meetings
ATTACH;FMTTYPE=image/jpeg:https://mkna.org/wp-content/uploads/2020/01/event-board-meeting-1.jpg
END:VEVENT
BEGIN:VEVENT
DTSTART;TZID=America/Indiana/Indianapolis:20251023T183000
DTEND;TZID=America/Indiana/Indianapolis:20251023T200000
DTSTAMP:20260422T044517
CREATED:20251015T190459Z
LAST-MODIFIED:20251015T190703Z
UID:10000238-1761244200-1761249600@mkna.org
SUMMARY:Board of Directors Meeting
DESCRIPTION:October meeting closed to public
URL:https://mkna.org/event/board-of-directors-meeting-7/
LOCATION:IN
CATEGORIES:Board Meetings
ATTACH;FMTTYPE=image/jpeg:https://mkna.org/wp-content/uploads/2020/01/event-board-meeting-1.jpg
END:VEVENT
BEGIN:VEVENT
DTSTART;TZID=America/Indiana/Indianapolis:20250918T183000
DTEND;TZID=America/Indiana/Indianapolis:20250918T200000
DTSTAMP:20260422T044517
CREATED:20250127T231842Z
LAST-MODIFIED:20250212T193337Z
UID:10000221-1758220200-1758225600@mkna.org
SUMMARY:Board Meeting
DESCRIPTION:Location: Midtown Church\nTime: 6:30-8 pm
URL:https://mkna.org/event/board-meeting-8/
LOCATION:Midtown Church\, 5610 Broadway Street\, Indianapolis\, IN\, 46220\, United States
CATEGORIES:Board Meetings
ATTACH;FMTTYPE=image/jpeg:https://mkna.org/wp-content/uploads/2020/01/event-board-meeting-1.jpg
END:VEVENT
BEGIN:VEVENT
DTSTART;TZID=America/Indiana/Indianapolis:20250821T183000
DTEND;TZID=America/Indiana/Indianapolis:20250821T200000
DTSTAMP:20260422T044517
CREATED:20250127T231554Z
LAST-MODIFIED:20250127T231554Z
UID:10000220-1755801000-1755806400@mkna.org
SUMMARY:Board Meeting
DESCRIPTION:Location: Northwood Christian Church\nTime: 6:30-8 pm
URL:https://mkna.org/event/board-meeting-7/
LOCATION:Northwood Christian Church\, 4550 Central Ave\, Indianapolis\, IN\, 46205\, United States
CATEGORIES:Board Meetings
ATTACH;FMTTYPE=image/jpeg:https://mkna.org/wp-content/uploads/2020/01/event-board-meeting-1.jpg
END:VEVENT
BEGIN:VEVENT
DTSTART;TZID=America/Indiana/Indianapolis:20250619T183000
DTEND;TZID=America/Indiana/Indianapolis:20250619T200000
DTSTAMP:20260422T044517
CREATED:20250127T230953Z
LAST-MODIFIED:20250127T230953Z
UID:10000218-1750357800-1750363200@mkna.org
SUMMARY:Board Meeting
DESCRIPTION:Location: St. Joan of Arc Community Garden\nTime: 6:30-8 pm
URL:https://mkna.org/event/board-meeting-6/
LOCATION:St. Joan of Arc Community Garden\, 4203 N Park Avenue\, Indianapolis\, IN\, 46205\, United States
CATEGORIES:Board Meetings
ATTACH;FMTTYPE=image/jpeg:https://mkna.org/wp-content/uploads/2020/01/event-board-meeting-1.jpg
END:VEVENT
BEGIN:VEVENT
DTSTART;TZID=America/Indiana/Indianapolis:20250522T183000
DTEND;TZID=America/Indiana/Indianapolis:20250522T200000
DTSTAMP:20260422T044517
CREATED:20250127T230334Z
LAST-MODIFIED:20250212T193248Z
UID:10000216-1747938600-1747944000@mkna.org
SUMMARY:Board Meeting
DESCRIPTION:Location: Indianapolis Opera\, Reilly Hall\nTime: 6:30-8pm
URL:https://mkna.org/event/board-meeting-5/
LOCATION:Indianapolis Opera\, 4011 N Pennsylvania Street\, Indianapolis\, IN\, 46205\, United States
CATEGORIES:Board Meetings
ATTACH;FMTTYPE=image/jpeg:https://mkna.org/wp-content/uploads/2020/01/event-board-meeting-1.jpg
END:VEVENT
BEGIN:VEVENT
DTSTART;TZID=America/Indiana/Indianapolis:20250417T173000
DTEND;TZID=America/Indiana/Indianapolis:20250417T173000
DTSTAMP:20260422T044517
CREATED:20250212T193946Z
LAST-MODIFIED:20250325T003533Z
UID:10000224-1744911000-1744911000@mkna.org
SUMMARY:MKNA All-Neighborhood Meeting
DESCRIPTION:[vc_row][vc_column][vc_column_text css=”.vc_custom_1742862917368{margin-bottom: 0px !important;}”]\nGather with neighbors for the 2025 All-Neighborhood Meeting on April 17 at Half Liter BBQ.\nLearn more about historic preservation. \nApril 17\, 2025\n5:30 pm\nHalf Liter BBQ 5301 N Winthrop Avenue\, Indianapolis\, IN\, United States\nGet directions \n[/vc_column_text][/vc_column][/vc_row]
URL:https://mkna.org/event/mkna-all-neighborhood-meeting/
LOCATION:Half Liter BBQ\, 5301 N Winthrop Avenue\, Indianapolis\, IN\, 46220\, United States
CATEGORIES:Board Meetings,Community Events
ATTACH;FMTTYPE=image/jpeg:https://mkna.org/wp-content/uploads/2024/01/event-neighborhood-meeting-4.jpg
END:VEVENT
BEGIN:VEVENT
DTSTART;TZID=America/Indiana/Indianapolis:20250313T183000
DTEND;TZID=America/Indiana/Indianapolis:20250313T200000
DTSTAMP:20260422T044517
CREATED:20250127T225552Z
LAST-MODIFIED:20250212T193113Z
UID:10000214-1741890600-1741896000@mkna.org
SUMMARY:Board Meeting
DESCRIPTION:Location: Golden Hour Bookstore\nTime: 6:30-8 pm
URL:https://mkna.org/event/board-meeting-3/
LOCATION:Golden Hour Books\, 5208 N College Ave\, Indianapolis\, IN\, 46220\, United States
CATEGORIES:Board Meetings
ATTACH;FMTTYPE=image/jpeg:https://mkna.org/wp-content/uploads/2020/01/event-board-meeting-1.jpg
END:VEVENT
BEGIN:VEVENT
DTSTART;TZID=America/Indiana/Indianapolis:20241203T183000
DTEND;TZID=America/Indiana/Indianapolis:20241203T200000
DTSTAMP:20260422T044517
CREATED:20240108T003716Z
LAST-MODIFIED:20240108T003716Z
UID:10000142-1733250600-1733256000@mkna.org
SUMMARY:Board of Directors Meeting
DESCRIPTION:Location TBD
URL:https://mkna.org/event/board-of-directors-meeting-6/
LOCATION:IN
CATEGORIES:Board Meetings
ATTACH;FMTTYPE=image/jpeg:https://mkna.org/wp-content/uploads/2020/01/event-board-meeting-1.jpg
END:VEVENT
BEGIN:VEVENT
DTSTART;TZID=America/Indiana/Indianapolis:20241024T183000
DTEND;TZID=America/Indiana/Indianapolis:20241024T200000
DTSTAMP:20260422T044517
CREATED:20240108T003544Z
LAST-MODIFIED:20240930T164422Z
UID:10000141-1729794600-1729800000@mkna.org
SUMMARY:Board of Directors Meeting
DESCRIPTION:
URL:https://mkna.org/event/board-of-directors-meeting-5/
LOCATION:Upland Brewery College Avenue\, 4842 N College Avenue\, Indianapolis\, IN\, 46205\, United States
CATEGORIES:Board Meetings
ATTACH;FMTTYPE=image/jpeg:https://mkna.org/wp-content/uploads/2020/01/event-board-meeting-1.jpg
END:VEVENT
BEGIN:VEVENT
DTSTART;TZID=America/Indiana/Indianapolis:20240919T183000
DTEND;TZID=America/Indiana/Indianapolis:20240919T200000
DTSTAMP:20260422T044517
CREATED:20240108T003431Z
LAST-MODIFIED:20240108T003447Z
UID:10000140-1726770600-1726776000@mkna.org
SUMMARY:Board of Directors Meeting
DESCRIPTION:
URL:https://mkna.org/event/board-of-directors-meeting-4/
LOCATION:Midtown Church\, 5610 Broadway Street\, Indianapolis\, IN\, 46220\, United States
CATEGORIES:Board Meetings
ATTACH;FMTTYPE=image/jpeg:https://mkna.org/wp-content/uploads/2020/01/event-board-meeting-1.jpg
END:VEVENT
BEGIN:VEVENT
DTSTART;TZID=America/Indiana/Indianapolis:20240815T183000
DTEND;TZID=America/Indiana/Indianapolis:20240815T200000
DTSTAMP:20260422T044517
CREATED:20240108T003323Z
LAST-MODIFIED:20240108T003323Z
UID:10000139-1723746600-1723752000@mkna.org
SUMMARY:Board of Directors Meeting
DESCRIPTION:
URL:https://mkna.org/event/board-of-directors-meeting-3/
LOCATION:Northwood Christian Church\, 4550 Central Ave\, Indianapolis\, IN\, 46205\, United States
CATEGORIES:Board Meetings
ATTACH;FMTTYPE=image/jpeg:https://mkna.org/wp-content/uploads/2020/01/event-board-meeting-1.jpg
END:VEVENT
BEGIN:VEVENT
DTSTART;TZID=America/Indiana/Indianapolis:20240620T183000
DTEND;TZID=America/Indiana/Indianapolis:20240620T200000
DTSTAMP:20260422T044517
CREATED:20240108T003203Z
LAST-MODIFIED:20240618T154826Z
UID:10000138-1718908200-1718913600@mkna.org
SUMMARY:Board of Directors Meeting
DESCRIPTION:Please note the location has been changed to: \nIndianapolis Basile Opera Center\n4011 N Pennsylvania Street\nIndianapolis\, IN 46205
URL:https://mkna.org/event/board-of-directors-meeting-2/
LOCATION:Basile Opera Center\, 4011 N Pennsylvania Street\, Indianapolis\, IN\, 46205\, United States
CATEGORIES:Board Meetings
ATTACH;FMTTYPE=image/jpeg:https://mkna.org/wp-content/uploads/2020/01/event-board-meeting-1.jpg
END:VEVENT
BEGIN:VEVENT
DTSTART;TZID=America/Indiana/Indianapolis:20240516T183000
DTEND;TZID=America/Indiana/Indianapolis:20240516T200000
DTSTAMP:20260422T044517
CREATED:20240108T002511Z
LAST-MODIFIED:20240510T191024Z
UID:10000137-1715884200-1715889600@mkna.org
SUMMARY:Board of Directors Meeting
DESCRIPTION:
URL:https://mkna.org/event/board-meeting-2/
LOCATION:Indiana State Fairgrounds\, Administration Building\, 1202 E 38th St\, Indianapolis\, IN\, 46205\, United States
CATEGORIES:Board Meetings
ATTACH;FMTTYPE=image/jpeg:https://mkna.org/wp-content/uploads/2020/01/event-board-meeting-1.jpg
END:VEVENT
BEGIN:VEVENT
DTSTART;TZID=America/Indiana/Indianapolis:20240222T173000
DTEND;TZID=America/Indiana/Indianapolis:20240222T193000
DTSTAMP:20260422T044517
CREATED:20240108T002030Z
LAST-MODIFIED:20240208T194810Z
UID:10000135-1708623000-1708630200@mkna.org
SUMMARY:MKNA All-Neighborhood Meeting
DESCRIPTION:Gather with neighbors for the 2024 All-Neighborhood Meeting on February 22\, at Half Liter BBQ.\nJoin us for a casual conversation about the history\, future developments\, safety\, and public transit on College Avenue – MK’s main artery of independent locals for decades. \nYour first Big Lug Brewing crafted beer – or bubbly soda beverage – is on MKNA. Doors open 5:30-7:30 pm. Food will be available for purchase throughout the event. \nFebruary 22\, 2024\n5:30 – 7:30 pm\nHalf Liter BBQ\, 5301 N Winthrop Avenue\nGet directions \nPanelists for the discussion include:\n\nDavid Allee\, Owner of The Jazz Kitchen\nRyan Mears\, Marion County Prosecutor\nMichael McKillip\, Executive Director of Midtown Indianapolis\nJennifer Pyrz\, Interim CEO and President of IndyGo
URL:https://mkna.org/event/all-neighborhood-meeting/
LOCATION:Half Liter BBQ\, 5301 N Winthrop Avenue\, Indianapolis\, IN\, 46220\, United States
CATEGORIES:Board Meetings,Community Events
ATTACH;FMTTYPE=image/jpeg:https://mkna.org/wp-content/uploads/2024/01/event-neighborhood-meeting-4.jpg
END:VEVENT
BEGIN:VEVENT
DTSTART;TZID=America/Indiana/Indianapolis:20240118T183000
DTEND;TZID=America/Indiana/Indianapolis:20240118T200000
DTSTAMP:20260422T044517
CREATED:20240108T001835Z
LAST-MODIFIED:20240108T002854Z
UID:10000134-1705602600-1705608000@mkna.org
SUMMARY:Board of Directors Meeting
DESCRIPTION:
URL:https://mkna.org/event/board-of-directors-meeting/
LOCATION:The Villages\, 3833 N Meridian Street\, Indianapolis\, IN\, 46208\, United States
CATEGORIES:Board Meetings
ATTACH;FMTTYPE=image/jpeg:https://mkna.org/wp-content/uploads/2020/01/event-board-meeting-1.jpg
END:VEVENT
BEGIN:VEVENT
DTSTART;TZID=UTC:20231205T183000
DTEND;TZID=UTC:20231205T200000
DTSTAMP:20260422T044517
CREATED:20221124T012315Z
LAST-MODIFIED:20231102T210427Z
UID:10000023-1701801000-1701806400@mkna.org
SUMMARY:MKNA Board Meeting
DESCRIPTION:Location:  \nGolden Hour Books\n5208 N College Ave\nIndianapolis\, IN 46220\nGet directions \nAll MKNA board meetings are open to the public.
URL:https://mkna.org/event/mkna-board-meeting-12/
LOCATION:Golden Hour Books\, 5208 N College Ave\, Indianapolis\, IN\, 46220\, United States
CATEGORIES:Board Meetings
ATTACH;FMTTYPE=image/jpeg:https://mkna.org/wp-content/uploads/2020/01/event-board-meeting-1.jpg
END:VEVENT
BEGIN:VEVENT
DTSTART;TZID=UTC:20231019T183000
DTEND;TZID=UTC:20231019T200000
DTSTAMP:20260422T044517
CREATED:20221124T012124Z
LAST-MODIFIED:20230117T012520Z
UID:10000090-1697740200-1697745600@mkna.org
SUMMARY:MKNA Board Meeting
DESCRIPTION:All MKNA board meetings are open to the public.
URL:https://mkna.org/event/mkna-board-meeting-10/
LOCATION:Upland Brewery College Avenue\, 4842 N College Avenue\, Indianapolis\, IN\, 46205\, United States
CATEGORIES:Board Meetings
ATTACH;FMTTYPE=image/jpeg:https://mkna.org/wp-content/uploads/2020/01/event-board-meeting-1.jpg
END:VEVENT
BEGIN:VEVENT
DTSTART;TZID=UTC:20230921T183000
DTEND;TZID=UTC:20230921T200000
DTSTAMP:20260422T044517
CREATED:20221124T012031Z
LAST-MODIFIED:20230117T012449Z
UID:10000087-1695321000-1695326400@mkna.org
SUMMARY:MKNA Board Meeting
DESCRIPTION:All MKNA board meetings are open to the public.
URL:https://mkna.org/event/mkna-board-meeting-9/
LOCATION:CO-HATCH\, 6151 Central Avenue\, Indianapolis\, IN\, 46220\, United States
CATEGORIES:Board Meetings
ATTACH;FMTTYPE=image/jpeg:https://mkna.org/wp-content/uploads/2020/01/event-board-meeting-1.jpg
END:VEVENT
BEGIN:VEVENT
DTSTART;TZID=UTC:20230817T183000
DTEND;TZID=UTC:20230817T200000
DTSTAMP:20260422T044517
CREATED:20221124T011837Z
LAST-MODIFIED:20230816T122649Z
UID:10000094-1692297000-1692302400@mkna.org
SUMMARY:MKNA Board Meeting
DESCRIPTION:All MKNA board meetings are open to the public. \n  \nBoard Agenda: \nMeridian-Kessler Neighborhood Association \nBoard of Directors Meeting \nAugust 17\, 2023 \n6:30-8:00 p.m. \nNorthwood Christian Church \n  \nAgenda \n  \n\n6:30 – Welcome\, Introductions\, & Pronouncement of Quorum\n\n  \n\n6:35 – Introduction of Guests and Remarks\n\n  \nIII.        6:50 – Approval of minutes and board reports \n  \n\n7:00 – New Business\n\n  \n\nHome Tour (Claire)\n\n  \n\nLand Use (Joseph)\n\n  \n\nBusiness Membership Update (Anne-Marie)\n\n  \n\nFlooding Issues in Zone 2 (Clair)\n\n  \n\nTox Drop Event Takeaways (Lenore/Emma/KBG)\n\n  \n\n2023 MKNA Summer Street Parties in Review (Emma/KBG)\n\n  \n\nTreasurer’s Report (Terri)\n\n  \n\nExecutive Director’s Report (Kathleen)\n\n  \n\nBoard Roles and Expectations (Emma)\n\n  \n\nPresident’s Report (Emma)\n\n  \n\n8:00 — Adjournment
URL:https://mkna.org/event/mkna-board-meeting-8/
LOCATION:Northwood Christian Church\, 4550 Central Ave\, Indianapolis\, IN\, 46205\, United States
CATEGORIES:Board Meetings
ATTACH;FMTTYPE=image/jpeg:https://mkna.org/wp-content/uploads/2020/01/event-board-meeting-1.jpg
END:VEVENT
BEGIN:VEVENT
DTSTART;TZID=UTC:20230720T183000
DTEND;TZID=UTC:20230720T200000
DTSTAMP:20260422T044517
CREATED:20221124T011428Z
LAST-MODIFIED:20230117T012315Z
UID:10000081-1689877800-1689883200@mkna.org
SUMMARY:MKNA Board Meeting
DESCRIPTION:All MKNA board meetings are open to the public.
URL:https://mkna.org/event/mkna-board-meeting-7/
LOCATION:Midtown Church\, 5610 Broadway Street\, Indianapolis\, IN\, 46220\, United States
CATEGORIES:Board Meetings
ATTACH;FMTTYPE=image/jpeg:https://mkna.org/wp-content/uploads/2020/01/event-board-meeting-1.jpg
END:VEVENT
BEGIN:VEVENT
DTSTART;TZID=UTC:20230615T183000
DTEND;TZID=UTC:20230615T200000
DTSTAMP:20260422T044517
CREATED:20221124T010847Z
LAST-MODIFIED:20230117T012346Z
UID:10000083-1686853800-1686859200@mkna.org
SUMMARY:MKNA Board Meeting
DESCRIPTION:All MKNA board meetings are open to the public.
URL:https://mkna.org/event/mkna-board-meeting-6/
LOCATION:St. Joan of Arc Community Garden\, 4203 N Park Avenue\, Indianapolis\, IN\, 46205\, United States
CATEGORIES:Board Meetings
ATTACH;FMTTYPE=image/jpeg:https://mkna.org/wp-content/uploads/2020/01/event-board-meeting-1.jpg
END:VEVENT
BEGIN:VEVENT
DTSTART;TZID=UTC:20230518T183000
DTEND;TZID=UTC:20230518T200000
DTSTAMP:20260422T044517
CREATED:20221124T010623Z
LAST-MODIFIED:20230117T012154Z
UID:10000085-1684434600-1684440000@mkna.org
SUMMARY:MKNA Board Meeting
DESCRIPTION:All MKNA board meetings are open to the public.
URL:https://mkna.org/event/mkna-board-meeting-5/
LOCATION:Immaculate Heart of Mary\, 5692 N Central Avenue\, Indianapolis\, IN\, 46220\, United States
CATEGORIES:Board Meetings
ATTACH;FMTTYPE=image/jpeg:https://mkna.org/wp-content/uploads/2020/01/event-board-meeting-1.jpg
END:VEVENT
BEGIN:VEVENT
DTSTART;TZID=UTC:20230413T183000
DTEND;TZID=UTC:20230413T200000
DTSTAMP:20260422T044517
CREATED:20221124T010348Z
LAST-MODIFIED:20230117T012118Z
UID:10000080-1681410600-1681416000@mkna.org
SUMMARY:MKNA Board Meeting
DESCRIPTION:All MKNA board meetings are open to the public.
URL:https://mkna.org/event/mkna-board-meeting-4/
LOCATION:Bethlehem Lutheran Church\, 526 E 52nd Street\, Indianapolis\, IN\, 46205\, United States
CATEGORIES:Board Meetings
ATTACH;FMTTYPE=image/jpeg:https://mkna.org/wp-content/uploads/2020/01/event-board-meeting-1.jpg
END:VEVENT
BEGIN:VEVENT
DTSTART;TZID=UTC:20230316T183000
DTEND;TZID=UTC:20230316T200000
DTSTAMP:20260422T044517
CREATED:20221124T010006Z
LAST-MODIFIED:20230117T011958Z
UID:10000063-1678991400-1678996800@mkna.org
SUMMARY:MKNA Board Meeting
DESCRIPTION:All MKNA board meetings are open to the public.
URL:https://mkna.org/event/mkna-board-meeting-3/
LOCATION:Indianapolis Opera\, 4011 N Pennsylvania Street\, Indianapolis\, IN\, 46205\, United States
CATEGORIES:Board Meetings
ATTACH;FMTTYPE=image/jpeg:https://mkna.org/wp-content/uploads/2020/01/event-board-meeting-1.jpg
END:VEVENT
BEGIN:VEVENT
DTSTART;TZID=UTC:20230216T180000
DTEND;TZID=UTC:20230216T200000
DTSTAMP:20260422T044517
CREATED:20221124T005636Z
LAST-MODIFIED:20230117T020108Z
UID:10000062-1676570400-1676577600@mkna.org
SUMMARY:All Neighborhood Meeting
DESCRIPTION:All Neighborhood Meeting\nJoin us for our annual All Neighborhood Meeting at The Speak Easy on Winthrop.\nWe’ll have light snacks and as always\, the meeting is open to the public. \nFEATURED SPEAKERS\nCity of Indianapolis\nIndianapolis Historic Preservation Commission\, Administrator\, Meg Busch and Planner\, Grace Goedeker \nELECTED OFFICIALS\nCity County Councilor\, John Barth and State Senator\, Fady Qaddoura \nDISCUSSIONS\nIntroduction of the interim conservation district plan for Meridian-Kessler \nELECTIONS\nVote for 2023 Meridian-Kessler Neighborhood Association Board of Directors \n  \n 
URL:https://mkna.org/event/mkna-board-meeting-2/
LOCATION:Speak Easy\, 5255 Winthrop Avenue\, Indianapolis\, IN\, 46220\, United States
CATEGORIES:Board Meetings
ATTACH;FMTTYPE=image/jpeg:https://mkna.org/wp-content/uploads/2023/01/communitymtgfin.jpg
END:VEVENT
BEGIN:VEVENT
DTSTART;TZID=UTC:20230119T183000
DTEND;TZID=UTC:20230119T200000
DTSTAMP:20260422T044517
CREATED:20221124T005117Z
LAST-MODIFIED:20230117T011755Z
UID:10000013-1674153000-1674158400@mkna.org
SUMMARY:MKNA Board Meeting
DESCRIPTION:All MKNA board meetings are open to the public. Come and join us.
URL:https://mkna.org/event/mkna-board-meeting/
LOCATION:Northwood Christian Church\, 4550 Central Ave\, Indianapolis\, IN\, 46205\, United States
CATEGORIES:Board Meetings
ATTACH;FMTTYPE=image/jpeg:https://mkna.org/wp-content/uploads/2020/01/event-board-meeting-1.jpg
END:VEVENT
BEGIN:VEVENT
DTSTART;TZID=UTC:20201112T180000
DTEND;TZID=UTC:20201112T193000
DTSTAMP:20260422T044517
CREATED:20200124T095735Z
LAST-MODIFIED:20200127T060203Z
UID:10000033-1605204000-1605209400@mkna.org
SUMMARY:Full Board Meeting
DESCRIPTION:All MKNA board meetings are open to the public.\nMeeting agendas will be posted on our website 48 hours prior to the meeting (www.mkna.org) as well as within this event.
URL:https://mkna.org/event/full-board-meeting-2-2-2-2-2/
LOCATION:MKNA Corporate Office\, 3965 N. Meridian St.\, Indianapolis\, 46208\, United States
CATEGORIES:Board Meetings
ATTACH;FMTTYPE=image/jpeg:https://mkna.org/wp-content/uploads/2020/01/event-board-meeting-1.jpg
END:VEVENT
BEGIN:VEVENT
DTSTART;TZID=UTC:20200910T180000
DTEND;TZID=UTC:20200910T193000
DTSTAMP:20260422T044517
CREATED:20200124T095707Z
LAST-MODIFIED:20200127T060349Z
UID:10000031-1599760800-1599766200@mkna.org
SUMMARY:Full Board Meeting
DESCRIPTION:All MKNA board meetings are open to the public.\nMeeting agendas will be posted on our website 48 hours prior to the meeting (www.mkna.org) as well as within this event.
URL:https://mkna.org/event/full-board-meeting-2-2-2-2/
LOCATION:MKNA Corporate Office\, 3965 N. Meridian St.\, Indianapolis\, 46208\, United States
CATEGORIES:Board Meetings
ATTACH;FMTTYPE=image/jpeg:https://mkna.org/wp-content/uploads/2020/01/event-board-meeting-1.jpg
END:VEVENT
END:VCALENDAR